BEGIN:VCALENDAR
VERSION:2.0
PRODID:-//Palmerston and Litchfield Seniors Association - ECPv6.15.20//NONSGML v1.0//EN
CALSCALE:GREGORIAN
METHOD:PUBLISH
X-ORIGINAL-URL:https://plsa.com.au
X-WR-CALDESC:Events for Palmerston and Litchfield Seniors Association
REFRESH-INTERVAL;VALUE=DURATION:PT1H
X-Robots-Tag:noindex
X-PUBLISHED-TTL:PT1H
BEGIN:VTIMEZONE
TZID:Australia/Adelaide
BEGIN:STANDARD
TZOFFSETFROM:+1030
TZOFFSETTO:+0930
TZNAME:ACST
DTSTART:20250405T163000
END:STANDARD
BEGIN:DAYLIGHT
TZOFFSETFROM:+0930
TZOFFSETTO:+1030
TZNAME:ACDT
DTSTART:20251004T163000
END:DAYLIGHT
BEGIN:STANDARD
TZOFFSETFROM:+1030
TZOFFSETTO:+0930
TZNAME:ACST
DTSTART:20260404T163000
END:STANDARD
BEGIN:DAYLIGHT
TZOFFSETFROM:+0930
TZOFFSETTO:+1030
TZNAME:ACDT
DTSTART:20261003T163000
END:DAYLIGHT
BEGIN:STANDARD
TZOFFSETFROM:+1030
TZOFFSETTO:+0930
TZNAME:ACST
DTSTART:20270403T163000
END:STANDARD
BEGIN:DAYLIGHT
TZOFFSETFROM:+0930
TZOFFSETTO:+1030
TZNAME:ACDT
DTSTART:20271002T163000
END:DAYLIGHT
END:VTIMEZONE
BEGIN:VEVENT
DTSTART;VALUE=DATE:20260119
DTEND;VALUE=DATE:20260120
DTSTAMP:20260420T123357
CREATED:20231229T205115Z
LAST-MODIFIED:20251205T201536Z
UID:2835-1768780800-1768867199@plsa.com.au
SUMMARY:Palmerston Volunteer Driver Program (PVDP) (Recommencement 2026)
DESCRIPTION:Bookings:  Brennan Electorate Office \nOffice Hours: Monday to Friday – 8.30am to 4.00pm \nContact: 08 8999 5587 \nService: This service is only available to Members and Non-Members who are residents of the City of Palmerston and Litchfield Council. Service recommences on Monday 19/01/2026 and closes for the Christmas break Friday 18/12/2026. \nWhere: Brochures available from Electorate Offices\, PLSA and 50+ Club \nFees: Contributions for 2026 are as follows (CASH ONLY): \n(1) Members $20.00/trip \n(2) Non-Members $40.00/trip. \nNarrative: This service is run in partnership with Brennan Electoral Office\, and all drivers are volunteers. Payment must be made with the volunteer driver\, who will provide you with a receipt on the day.  Pickups are available within the City of Palmerston within the Litchfield Council region – boundaries are limited to: East – Humpty Doo; West – Berry Springs and South – Noonamah.  There will be no pick-ups beyond these boundaries. \nSponsor: Brennan Electoral Office\, Volunteer Drivers & Palmerston And Litchfield Seniors Association Inc.
URL:https://plsa.com.au/event/palmerston-volunteer-driver-program-pvdp/
LOCATION:PLSA
END:VEVENT
END:VCALENDAR