BEGIN:VCALENDAR
VERSION:2.0
PRODID:-//Palmerston and Litchfield Seniors Association - ECPv6.15.20//NONSGML v1.0//EN
CALSCALE:GREGORIAN
METHOD:PUBLISH
X-WR-CALNAME:Palmerston and Litchfield Seniors Association
X-ORIGINAL-URL:https://plsa.com.au
X-WR-CALDESC:Events for Palmerston and Litchfield Seniors Association
REFRESH-INTERVAL;VALUE=DURATION:PT1H
X-Robots-Tag:noindex
X-PUBLISHED-TTL:PT1H
BEGIN:VTIMEZONE
TZID:Australia/Adelaide
BEGIN:STANDARD
TZOFFSETFROM:+1030
TZOFFSETTO:+0930
TZNAME:ACST
DTSTART:20250405T163000
END:STANDARD
BEGIN:DAYLIGHT
TZOFFSETFROM:+0930
TZOFFSETTO:+1030
TZNAME:ACDT
DTSTART:20251004T163000
END:DAYLIGHT
BEGIN:STANDARD
TZOFFSETFROM:+1030
TZOFFSETTO:+0930
TZNAME:ACST
DTSTART:20260404T163000
END:STANDARD
BEGIN:DAYLIGHT
TZOFFSETFROM:+0930
TZOFFSETTO:+1030
TZNAME:ACDT
DTSTART:20261003T163000
END:DAYLIGHT
BEGIN:STANDARD
TZOFFSETFROM:+1030
TZOFFSETTO:+0930
TZNAME:ACST
DTSTART:20270403T163000
END:STANDARD
BEGIN:DAYLIGHT
TZOFFSETFROM:+0930
TZOFFSETTO:+1030
TZNAME:ACDT
DTSTART:20271002T163000
END:DAYLIGHT
END:VTIMEZONE
BEGIN:VEVENT
DTSTART;TZID=Australia/Adelaide:20260304T100000
DTEND;TZID=Australia/Adelaide:20260304T120000
DTSTAMP:20260420T104610
CREATED:20231226T043059Z
LAST-MODIFIED:20251205T200521Z
UID:2422-1772618400-1772625600@plsa.com.au
SUMMARY:Humpty Doo & Rural Area Golf Club - Seniors Morning Tea
DESCRIPTION:Venue: Humpty Doo & Rural Area Golf Club. \nAddress: 565 Pioneer Road\, HUMPTY DOO NT (Norm Lane). \nWhen: FIRST WEDNESDAY of the month. We run a raffle at each morning tea. \nDescription: Why not? Of course – Morning Tea\, companionship\, meet new people\, reunite with old friends over a cuppa and a natter.  Never know\, you might even win a raffle prize! \nAttendees: Seniors\, Carers and friends. \nSponsor: Humpty Doo & Rural Area Golf Club & Palmerston And Litchfield Seniors Association Inc.
URL:https://plsa.com.au/event/humpty-doo-rural-area-golf-club-morning-tea-2/
LOCATION:Humpty Doo & Rural Area Golf Club\, 565 Pioneer Road\, HUMPTY DOO\, NT\, 0836\, Australia
END:VEVENT
END:VCALENDAR