BEGIN:VCALENDAR
VERSION:2.0
PRODID:-//Palmerston and Litchfield Seniors Association - ECPv6.15.20//NONSGML v1.0//EN
CALSCALE:GREGORIAN
METHOD:PUBLISH
X-ORIGINAL-URL:https://plsa.com.au
X-WR-CALDESC:Events for Palmerston and Litchfield Seniors Association
REFRESH-INTERVAL;VALUE=DURATION:PT1H
X-Robots-Tag:noindex
X-PUBLISHED-TTL:PT1H
BEGIN:VTIMEZONE
TZID:Australia/Adelaide
BEGIN:STANDARD
TZOFFSETFROM:+1030
TZOFFSETTO:+0930
TZNAME:ACST
DTSTART:20250405T163000
END:STANDARD
BEGIN:DAYLIGHT
TZOFFSETFROM:+0930
TZOFFSETTO:+1030
TZNAME:ACDT
DTSTART:20251004T163000
END:DAYLIGHT
BEGIN:STANDARD
TZOFFSETFROM:+1030
TZOFFSETTO:+0930
TZNAME:ACST
DTSTART:20260404T163000
END:STANDARD
BEGIN:DAYLIGHT
TZOFFSETFROM:+0930
TZOFFSETTO:+1030
TZNAME:ACDT
DTSTART:20261003T163000
END:DAYLIGHT
BEGIN:STANDARD
TZOFFSETFROM:+1030
TZOFFSETTO:+0930
TZNAME:ACST
DTSTART:20270403T163000
END:STANDARD
BEGIN:DAYLIGHT
TZOFFSETFROM:+0930
TZOFFSETTO:+1030
TZNAME:ACDT
DTSTART:20271002T163000
END:DAYLIGHT
END:VTIMEZONE
BEGIN:VEVENT
DTSTART;TZID=Australia/Adelaide:20260316T114500
DTEND;TZID=Australia/Adelaide:20260316T133000
DTSTAMP:20260420T111921
CREATED:20241127T055649Z
LAST-MODIFIED:20251205T200145Z
UID:3200-1773661500-1773667800@plsa.com.au
SUMMARY:Bells Bar & Bistro - Bimonthly Lunch
DESCRIPTION:Venue:  Bells Bar & Bistro \nVenue: 127 Flynn Circuit BELLAMACK\, NT \nDescription: An enjoyable lunch. \nNarration: Registrations for lunch will be taken at Morning Teas – maximum number of attendees 40. Lunch orders taken at time of booking.  Meals will be ready shortly after we arrive. Purchase drinks from the bar (cash or credit card). No transport provided. \nSponsor: Palmerston And Litchfield Seniors Association Inc.
URL:https://plsa.com.au/event/flynns-bimonthly-lunch/
LOCATION:Bells Bar & Bistro\, 1/27 Flynn Circuit\, BELLAMACK\, NT\, 0832\, Australia
END:VEVENT
END:VCALENDAR