BEGIN:VCALENDAR
VERSION:2.0
PRODID:-//Palmerston and Litchfield Seniors Association - ECPv6.15.20//NONSGML v1.0//EN
CALSCALE:GREGORIAN
METHOD:PUBLISH
X-WR-CALNAME:Palmerston and Litchfield Seniors Association
X-ORIGINAL-URL:https://plsa.com.au
X-WR-CALDESC:Events for Palmerston and Litchfield Seniors Association
REFRESH-INTERVAL;VALUE=DURATION:PT1H
X-Robots-Tag:noindex
X-PUBLISHED-TTL:PT1H
BEGIN:VTIMEZONE
TZID:Australia/Adelaide
BEGIN:STANDARD
TZOFFSETFROM:+1030
TZOFFSETTO:+0930
TZNAME:ACST
DTSTART:20250405T163000
END:STANDARD
BEGIN:DAYLIGHT
TZOFFSETFROM:+0930
TZOFFSETTO:+1030
TZNAME:ACDT
DTSTART:20251004T163000
END:DAYLIGHT
BEGIN:STANDARD
TZOFFSETFROM:+1030
TZOFFSETTO:+0930
TZNAME:ACST
DTSTART:20260404T163000
END:STANDARD
BEGIN:DAYLIGHT
TZOFFSETFROM:+0930
TZOFFSETTO:+1030
TZNAME:ACDT
DTSTART:20261003T163000
END:DAYLIGHT
BEGIN:STANDARD
TZOFFSETFROM:+1030
TZOFFSETTO:+0930
TZNAME:ACST
DTSTART:20270403T163000
END:STANDARD
BEGIN:DAYLIGHT
TZOFFSETFROM:+0930
TZOFFSETTO:+1030
TZNAME:ACDT
DTSTART:20271002T163000
END:DAYLIGHT
END:VTIMEZONE
BEGIN:VEVENT
DTSTART;TZID=Australia/Adelaide:20260522T130000
DTEND;TZID=Australia/Adelaide:20260522T160000
DTSTAMP:20260420T091943
CREATED:20231226T090821Z
LAST-MODIFIED:20251205T195113Z
UID:2559-1779454800-1779465600@plsa.com.au
SUMMARY:General Committee Meeting (May Meeting)
DESCRIPTION:Venue: Meeting Room\, Gray Hall. \nAddress: Cnr Victoria Ave and Essington Ave\, GRAY NT 0830. \nDescription: Monthly General Committee Meeting \nSponsor: Palmerston And Litchfield Seniors Association Inc.
URL:https://plsa.com.au/event/general-committee-meeting-16/
LOCATION:Room 2 – Palmerston Recreation Centre\, 11 The Boulevard\, PALMERSTON NT 0831\, NT\, 0830\, Australia
END:VEVENT
END:VCALENDAR