BEGIN:VCALENDAR
VERSION:2.0
PRODID:-//Palmerston and Litchfield Seniors Association - ECPv6.15.20//NONSGML v1.0//EN
CALSCALE:GREGORIAN
METHOD:PUBLISH
X-WR-CALNAME:Palmerston and Litchfield Seniors Association
X-ORIGINAL-URL:https://plsa.com.au
X-WR-CALDESC:Events for Palmerston and Litchfield Seniors Association
REFRESH-INTERVAL;VALUE=DURATION:PT1H
X-Robots-Tag:noindex
X-PUBLISHED-TTL:PT1H
BEGIN:VTIMEZONE
TZID:Australia/Adelaide
BEGIN:STANDARD
TZOFFSETFROM:+1030
TZOFFSETTO:+0930
TZNAME:ACST
DTSTART:20250405T163000
END:STANDARD
BEGIN:DAYLIGHT
TZOFFSETFROM:+0930
TZOFFSETTO:+1030
TZNAME:ACDT
DTSTART:20251004T163000
END:DAYLIGHT
BEGIN:STANDARD
TZOFFSETFROM:+1030
TZOFFSETTO:+0930
TZNAME:ACST
DTSTART:20260404T163000
END:STANDARD
BEGIN:DAYLIGHT
TZOFFSETFROM:+0930
TZOFFSETTO:+1030
TZNAME:ACDT
DTSTART:20261003T163000
END:DAYLIGHT
BEGIN:STANDARD
TZOFFSETFROM:+1030
TZOFFSETTO:+0930
TZNAME:ACST
DTSTART:20270403T163000
END:STANDARD
BEGIN:DAYLIGHT
TZOFFSETFROM:+0930
TZOFFSETTO:+1030
TZNAME:ACDT
DTSTART:20271002T163000
END:DAYLIGHT
END:VTIMEZONE
BEGIN:VEVENT
DTSTART;VALUE=DATE:20260531
DTEND;VALUE=DATE:20260601
DTSTAMP:20260420T110641
CREATED:20231229T211717Z
LAST-MODIFIED:20251205T194836Z
UID:2843-1780185600-1780271999@plsa.com.au
SUMMARY:Membership Renewals 2026
DESCRIPTION:Bookings: Membership renewals are due to be paid no later than 31 May 2026 if you wish to continue attending events. \nContact: For further information please speak with the Treasurer – Sheryl Sephton 0439 342 400. \nMembership Fees: 2026 are $30.00/ person. \nNarrative: Membership renewal is required from 1 January 2026. Renewals of membership are due by 31 May 2026 if you wish to continue attending events after this date. It is a requirement of the Association that members complete a new form each year to ensure the data we require is current and up to date\, particularly if we need to advise your Emergency Contact Person in the event of an incident.  We acknowledge that you may feel some questions are not relevant to you\, however\, the PLSA at times is required collects information to pass onto a third parties as part of national/state surveys without specific details of the actual members. \nPlease note\, that if you have a Carer who brings you along to events and stays with you\, providing you with assistance on the day\, the Carer must be a financial member of the PLSA.  The Carer’s membership can either be paid by the Carer or the member they are assisting. This requirement is to ensure that the PLSA meets its insurance policy requirements and is able to contact the Carer’s employer if necessary. \nSponsor: Palmerston And Litchfield Seniors Association Inc.
URL:https://plsa.com.au/event/membership-2024-2/
LOCATION:PLSA
END:VEVENT
END:VCALENDAR