BEGIN:VCALENDAR
VERSION:2.0
PRODID:-//Palmerston and Litchfield Seniors Association - ECPv6.15.20//NONSGML v1.0//EN
CALSCALE:GREGORIAN
METHOD:PUBLISH
X-ORIGINAL-URL:https://plsa.com.au
X-WR-CALDESC:Events for Palmerston and Litchfield Seniors Association
REFRESH-INTERVAL;VALUE=DURATION:PT1H
X-Robots-Tag:noindex
X-PUBLISHED-TTL:PT1H
BEGIN:VTIMEZONE
TZID:Australia/Adelaide
BEGIN:STANDARD
TZOFFSETFROM:+1030
TZOFFSETTO:+0930
TZNAME:ACST
DTSTART:20250405T163000
END:STANDARD
BEGIN:DAYLIGHT
TZOFFSETFROM:+0930
TZOFFSETTO:+1030
TZNAME:ACDT
DTSTART:20251004T163000
END:DAYLIGHT
BEGIN:STANDARD
TZOFFSETFROM:+1030
TZOFFSETTO:+0930
TZNAME:ACST
DTSTART:20260404T163000
END:STANDARD
BEGIN:DAYLIGHT
TZOFFSETFROM:+0930
TZOFFSETTO:+1030
TZNAME:ACDT
DTSTART:20261003T163000
END:DAYLIGHT
BEGIN:STANDARD
TZOFFSETFROM:+1030
TZOFFSETTO:+0930
TZNAME:ACST
DTSTART:20270403T163000
END:STANDARD
BEGIN:DAYLIGHT
TZOFFSETFROM:+0930
TZOFFSETTO:+1030
TZNAME:ACDT
DTSTART:20271002T163000
END:DAYLIGHT
END:VTIMEZONE
BEGIN:VEVENT
DTSTART;TZID=Australia/Adelaide:20260720T114500
DTEND;TZID=Australia/Adelaide:20260720T133000
DTSTAMP:20260420T172123
CREATED:20251204T083731Z
LAST-MODIFIED:20251205T192344Z
UID:3756-1784547900-1784554200@plsa.com.au
SUMMARY:Flynns Bar     Bi-monthly Lunch
DESCRIPTION:Venue:  Flynns Bar \nVenue: 3 Maluka Drive\, PALMERSTON NT \nDescription: An enjoyable lunch. \nNarration: Registrations for lunch will be taken at Morning Teas – maximum number of attendees 40. Lunch orders taken at time of booking.  Meals will be ready shortly after we arrive. Purchase drinks from the bar (cash or credit card). No transport provided. \nSponsor: Palmerston And Litchfield Seniors Association Inc.
URL:https://plsa.com.au/event/bi-monthly-lunch/
LOCATION:Flynns Bistro Palmerston\, 3 Maluka Drive\, PALMERSTON\, Northern Territory\, 0830\, Australia
END:VEVENT
END:VCALENDAR