BEGIN:VCALENDAR
VERSION:2.0
PRODID:-//Palmerston and Litchfield Seniors Association - ECPv6.15.20//NONSGML v1.0//EN
CALSCALE:GREGORIAN
METHOD:PUBLISH
X-WR-CALNAME:Palmerston and Litchfield Seniors Association
X-ORIGINAL-URL:https://plsa.com.au
X-WR-CALDESC:Events for Palmerston and Litchfield Seniors Association
REFRESH-INTERVAL;VALUE=DURATION:PT1H
X-Robots-Tag:noindex
X-PUBLISHED-TTL:PT1H
BEGIN:VTIMEZONE
TZID:Australia/Adelaide
BEGIN:STANDARD
TZOFFSETFROM:+1030
TZOFFSETTO:+0930
TZNAME:ACST
DTSTART:20250405T163000
END:STANDARD
BEGIN:DAYLIGHT
TZOFFSETFROM:+0930
TZOFFSETTO:+1030
TZNAME:ACDT
DTSTART:20251004T163000
END:DAYLIGHT
BEGIN:STANDARD
TZOFFSETFROM:+1030
TZOFFSETTO:+0930
TZNAME:ACST
DTSTART:20260404T163000
END:STANDARD
BEGIN:DAYLIGHT
TZOFFSETFROM:+0930
TZOFFSETTO:+1030
TZNAME:ACDT
DTSTART:20261003T163000
END:DAYLIGHT
BEGIN:STANDARD
TZOFFSETFROM:+1030
TZOFFSETTO:+0930
TZNAME:ACST
DTSTART:20270403T163000
END:STANDARD
BEGIN:DAYLIGHT
TZOFFSETFROM:+0930
TZOFFSETTO:+1030
TZNAME:ACDT
DTSTART:20271002T163000
END:DAYLIGHT
END:VTIMEZONE
BEGIN:VEVENT
DTSTART;TZID=Australia/Adelaide:20260804T120000
DTEND;TZID=Australia/Adelaide:20260804T140000
DTSTAMP:20260420T172049
CREATED:20231227T212154Z
LAST-MODIFIED:20260405T220347Z
UID:2604-1785844800-1785852000@plsa.com.au
SUMMARY:Seniors Fortnight - City of Palmerston - Lunch
DESCRIPTION:Venue: Cazalys Palmerston Club. \nAddress: 10 Temple Terrace\, PALMERSTON NT. \nNarration: Parking available. Come and enjoy lunch and great company. Door prizes will be available on the day\, along with Lucky Numbers – minimum prize $50.00/draw. Lucky Number Tickets will be $2.00ea or 5 for $10.00. No Transport available. Special Seniors Fortnight raffle tickets sold at $2.00 each – great prizes for only members attending S/F events. \nRegistration: Check in commences at 11:15am. \nSpecial Seniors Fortnight Raffle – tickets $2.00ea – great prizes. 1st Prize donated by The House of Pearls – Freshwater Pearl necklace\, bracelet and earrings – value $1\,000.00. No transport available. \nSponsors: City of Palmerston\, Palmerston and Litchfield Business Houses and Palmerston And Litchfield Seniors Association Inc.
URL:https://plsa.com.au/event/seniors-fortnight-cazalys-lunch/
LOCATION:Cazalys Palmerston Club\, 10 Temple Terrace\, PALMERSTON NT 0831\, NT\, 0831\, Australia
END:VEVENT
END:VCALENDAR