BEGIN:VCALENDAR
VERSION:2.0
PRODID:-//Palmerston and Litchfield Seniors Association - ECPv6.15.20//NONSGML v1.0//EN
CALSCALE:GREGORIAN
METHOD:PUBLISH
X-WR-CALNAME:Palmerston and Litchfield Seniors Association
X-ORIGINAL-URL:https://plsa.com.au
X-WR-CALDESC:Events for Palmerston and Litchfield Seniors Association
REFRESH-INTERVAL;VALUE=DURATION:PT1H
X-Robots-Tag:noindex
X-PUBLISHED-TTL:PT1H
BEGIN:VTIMEZONE
TZID:Australia/Adelaide
BEGIN:STANDARD
TZOFFSETFROM:+1030
TZOFFSETTO:+0930
TZNAME:ACST
DTSTART:20250405T163000
END:STANDARD
BEGIN:DAYLIGHT
TZOFFSETFROM:+0930
TZOFFSETTO:+1030
TZNAME:ACDT
DTSTART:20251004T163000
END:DAYLIGHT
BEGIN:STANDARD
TZOFFSETFROM:+1030
TZOFFSETTO:+0930
TZNAME:ACST
DTSTART:20260404T163000
END:STANDARD
BEGIN:DAYLIGHT
TZOFFSETFROM:+0930
TZOFFSETTO:+1030
TZNAME:ACDT
DTSTART:20261003T163000
END:DAYLIGHT
BEGIN:STANDARD
TZOFFSETFROM:+1030
TZOFFSETTO:+0930
TZNAME:ACST
DTSTART:20270403T163000
END:STANDARD
BEGIN:DAYLIGHT
TZOFFSETFROM:+0930
TZOFFSETTO:+1030
TZNAME:ACDT
DTSTART:20271002T163000
END:DAYLIGHT
END:VTIMEZONE
BEGIN:VEVENT
DTSTART;TZID=Australia/Adelaide:20260807T120000
DTEND;TZID=Australia/Adelaide:20260807T150000
DTSTAMP:20260420T201219
CREATED:20231228T015400Z
LAST-MODIFIED:20260405T221110Z
UID:2726-1786104000-1786114800@plsa.com.au
SUMMARY:Seniors Fortnight - City of Palmerston Darwin Harbour Cruise - Cruise & Buffet Lunch
DESCRIPTION:Venue:  Journey Beyond. (Bus Transport Provided) \nAddress: Dock 3\, Stokes Hill Wharf DARWIN NT 0800. \nDescription:  Enjoyable Darwin Harbour Cruise and Lunch. \nNarration: Come and join us on the Charles Darwin for a harbour cruise\, enjoying the harbour whilst enjoying a sumptuous lunch.  You will be required to walk from the buses/car (approximately 250m) to the Charles Darwin and negotiate a rampway down to and up from the vessel. The tides are expected to be medium on the day. There are limited spaces available for wheely walkers on the vessel. Own transport can be taken.  The City of Palmerston Mayor\, Mrs. Athina Pascoe-Bell (or nominee) will be joining us. \nThe following Charles Darwin terms and conditions apply: \n\nDrinks available for purchase from the bar only – NO BYO ALCOHOL\, including hip flasks. (cashless bar – credit card payment only).\nThere is no smoking permitted on any part of the Charles Darwin.\nStaff of the Charles Darwin are not permitted to assist clients embarking or disembarking via the ramp to the vessel.\nNo clients accepted if wheelchair bound.\nTide – Embarking and Disembarking – moderate incline.\n\nRegistration:  Embarkation onto a bus will commence at 10:15am depending on your pickup point – check your program for embarkation times at your location AND be their 1o minutes early. Note Self-drive members going to Stokes Hill Wharf will need to arrive no later than 11:30am. Being late may be disappointing. \nSponsor: City of Palmerston & Palmerston And Litchfield Seniors Association Inc.
URL:https://plsa.com.au/event/seniors-fortnight-city-of-palmerston-darwin-harbour-cruise/
LOCATION:Stiokes Hill Wharf
END:VEVENT
END:VCALENDAR