BEGIN:VCALENDAR
VERSION:2.0
PRODID:-//Palmerston and Litchfield Seniors Association - ECPv6.15.20//NONSGML v1.0//EN
CALSCALE:GREGORIAN
METHOD:PUBLISH
X-WR-CALNAME:Palmerston and Litchfield Seniors Association
X-ORIGINAL-URL:https://plsa.com.au
X-WR-CALDESC:Events for Palmerston and Litchfield Seniors Association
REFRESH-INTERVAL;VALUE=DURATION:PT1H
X-Robots-Tag:noindex
X-PUBLISHED-TTL:PT1H
BEGIN:VTIMEZONE
TZID:Australia/Adelaide
BEGIN:STANDARD
TZOFFSETFROM:+1030
TZOFFSETTO:+0930
TZNAME:ACST
DTSTART:20250405T163000
END:STANDARD
BEGIN:DAYLIGHT
TZOFFSETFROM:+0930
TZOFFSETTO:+1030
TZNAME:ACDT
DTSTART:20251004T163000
END:DAYLIGHT
BEGIN:STANDARD
TZOFFSETFROM:+1030
TZOFFSETTO:+0930
TZNAME:ACST
DTSTART:20260404T163000
END:STANDARD
BEGIN:DAYLIGHT
TZOFFSETFROM:+0930
TZOFFSETTO:+1030
TZNAME:ACDT
DTSTART:20261003T163000
END:DAYLIGHT
BEGIN:STANDARD
TZOFFSETFROM:+1030
TZOFFSETTO:+0930
TZNAME:ACST
DTSTART:20270403T163000
END:STANDARD
BEGIN:DAYLIGHT
TZOFFSETFROM:+0930
TZOFFSETTO:+1030
TZNAME:ACDT
DTSTART:20271002T163000
END:DAYLIGHT
END:VTIMEZONE
BEGIN:VEVENT
DTSTART;TZID=Australia/Adelaide:20260810T100000
DTEND;TZID=Australia/Adelaide:20260810T131500
DTSTAMP:20260420T140836
CREATED:20231228T015634Z
LAST-MODIFIED:20260405T225546Z
UID:2729-1786356000-1786367700@plsa.com.au
SUMMARY:Seniors Fortnight - Darwin Family Law Movie & Morning Tea
DESCRIPTION:Venue: Event Cinemas Yarrawonga. \nAddress: 18 Roystonea Avenue\, YARRAWONGA NT (Gateway Shopping Centre). \nDescription: 2 x VMax cinema – join us for the Movie and Morning Tea. \nNarration: Movies – TBA. This is a Family friendly event – you are welcome to invite family or friends to join us for the movie and morning tea – the cost is $15.00/head. Please provide names and payment at nthe time of registration to our Treasurer – Sheryl Sephton. \nRegistrations: Check in commences at 10:00aqm. No Transport provided. \nSponsors: Darwin Family Law and Event Cinemas
URL:https://plsa.com.au/event/seniors-fortnight-darwin-family-law-movie-morning-tea/
LOCATION:Event Cinema\, Gateway\, Palmerston\, Northern Territory\, 0831\, Australia
END:VEVENT
END:VCALENDAR