BEGIN:VCALENDAR
VERSION:2.0
PRODID:-//Palmerston and Litchfield Seniors Association - ECPv6.15.20//NONSGML v1.0//EN
CALSCALE:GREGORIAN
METHOD:PUBLISH
X-ORIGINAL-URL:https://plsa.com.au
X-WR-CALDESC:Events for Palmerston and Litchfield Seniors Association
REFRESH-INTERVAL;VALUE=DURATION:PT1H
X-Robots-Tag:noindex
X-PUBLISHED-TTL:PT1H
BEGIN:VTIMEZONE
TZID:Australia/Adelaide
BEGIN:STANDARD
TZOFFSETFROM:+1030
TZOFFSETTO:+0930
TZNAME:ACST
DTSTART:20250405T163000
END:STANDARD
BEGIN:DAYLIGHT
TZOFFSETFROM:+0930
TZOFFSETTO:+1030
TZNAME:ACDT
DTSTART:20251004T163000
END:DAYLIGHT
BEGIN:STANDARD
TZOFFSETFROM:+1030
TZOFFSETTO:+0930
TZNAME:ACST
DTSTART:20260404T163000
END:STANDARD
BEGIN:DAYLIGHT
TZOFFSETFROM:+0930
TZOFFSETTO:+1030
TZNAME:ACDT
DTSTART:20261003T163000
END:DAYLIGHT
BEGIN:STANDARD
TZOFFSETFROM:+1030
TZOFFSETTO:+0930
TZNAME:ACST
DTSTART:20270403T163000
END:STANDARD
BEGIN:DAYLIGHT
TZOFFSETFROM:+0930
TZOFFSETTO:+1030
TZNAME:ACDT
DTSTART:20271002T163000
END:DAYLIGHT
END:VTIMEZONE
BEGIN:VEVENT
DTSTART;VALUE=DATE:20260811
DTEND;VALUE=DATE:20260812
DTSTAMP:20260420T184743
CREATED:20260330T194409Z
LAST-MODIFIED:20260405T225912Z
UID:4085-1786406400-1786492799@plsa.com.au
SUMMARY:Litchfield Council - Adelaide River Queen Excursion & Lunch
DESCRIPTION:Venue: Adelaide River Queen\, & Corroboree Tavern (Bus Transport) \nAddress: Wak Wak and Corroboree Park. \nWhen: Refer to your Seniors Fortnight Program for bus pick up times. \nDescription: 1 Hour tour on the Adelaide River Queen then enjoy lunch at Corroboree Park before returning to Palmerston. \nSponsor:  Litchfield Council & Palmerston And Litchfield Seniors Association Inc.
URL:https://plsa.com.au/event/litchfield-council-adelaide-river-queen-lunch/
LOCATION:Adelaide River Queen & Corroboree Tavern\, Australia
END:VEVENT
END:VCALENDAR