BEGIN:VCALENDAR
VERSION:2.0
PRODID:-//Palmerston and Litchfield Seniors Association - ECPv6.15.20//NONSGML v1.0//EN
CALSCALE:GREGORIAN
METHOD:PUBLISH
X-ORIGINAL-URL:https://plsa.com.au
X-WR-CALDESC:Events for Palmerston and Litchfield Seniors Association
REFRESH-INTERVAL;VALUE=DURATION:PT1H
X-Robots-Tag:noindex
X-PUBLISHED-TTL:PT1H
BEGIN:VTIMEZONE
TZID:Australia/Adelaide
BEGIN:STANDARD
TZOFFSETFROM:+1030
TZOFFSETTO:+0930
TZNAME:ACST
DTSTART:20250405T163000
END:STANDARD
BEGIN:DAYLIGHT
TZOFFSETFROM:+0930
TZOFFSETTO:+1030
TZNAME:ACDT
DTSTART:20251004T163000
END:DAYLIGHT
BEGIN:STANDARD
TZOFFSETFROM:+1030
TZOFFSETTO:+0930
TZNAME:ACST
DTSTART:20260404T163000
END:STANDARD
BEGIN:DAYLIGHT
TZOFFSETFROM:+0930
TZOFFSETTO:+1030
TZNAME:ACDT
DTSTART:20261003T163000
END:DAYLIGHT
BEGIN:STANDARD
TZOFFSETFROM:+1030
TZOFFSETTO:+0930
TZNAME:ACST
DTSTART:20270403T163000
END:STANDARD
BEGIN:DAYLIGHT
TZOFFSETFROM:+0930
TZOFFSETTO:+1030
TZNAME:ACDT
DTSTART:20271002T163000
END:DAYLIGHT
END:VTIMEZONE
BEGIN:VEVENT
DTSTART;TZID=Australia/Adelaide:20260812T150000
DTEND;TZID=Australia/Adelaide:20260812T180000
DTSTAMP:20260420T172406
CREATED:20241128T211913Z
LAST-MODIFIED:20260405T230649Z
UID:3436-1786546800-1786557600@plsa.com.au
SUMMARY:Seniors Fortnight City of Palmerston - Seniors Day
DESCRIPTION:Venue: Palmerston Recreation Centre. \nVenue: 10 The Boulevard PALMERSTON NT. \nDescription: The City of Palmerston will again host the Seniors Day\, providing various activities. \nNarrative: Registrations will be taken by the PLSA\, maximum PLSA registrations – 100pax. The City of Palmerston is organising a truly exiting High Tea. This event will include a performance by the Andrew Sisters Tribute Band\, coupled with High Tea – an event not to be misses!!! A fun and nostalgic afternoon celebrating the music of the 1940’s and space to have a little flutter around the dance floor whilst enjoying High Tea with coffee\, tea and light refreshments. \nRegistrations: Check in commences at 2:15pm.       No Transport provided. \nSponsors:   City of Palmerston & Palmerston And Litchfield Seniors Association Inc.
URL:https://plsa.com.au/event/seniors-christmas-lunch-2/
LOCATION:Palmerston Recreation Centre
END:VEVENT
END:VCALENDAR