BEGIN:VCALENDAR
VERSION:2.0
PRODID:-//Palmerston and Litchfield Seniors Association - ECPv6.15.20//NONSGML v1.0//EN
CALSCALE:GREGORIAN
METHOD:PUBLISH
X-WR-CALNAME:Palmerston and Litchfield Seniors Association
X-ORIGINAL-URL:https://plsa.com.au
X-WR-CALDESC:Events for Palmerston and Litchfield Seniors Association
REFRESH-INTERVAL;VALUE=DURATION:PT1H
X-Robots-Tag:noindex
X-PUBLISHED-TTL:PT1H
BEGIN:VTIMEZONE
TZID:Australia/Adelaide
BEGIN:STANDARD
TZOFFSETFROM:+1030
TZOFFSETTO:+0930
TZNAME:ACST
DTSTART:20250405T163000
END:STANDARD
BEGIN:DAYLIGHT
TZOFFSETFROM:+0930
TZOFFSETTO:+1030
TZNAME:ACDT
DTSTART:20251004T163000
END:DAYLIGHT
BEGIN:STANDARD
TZOFFSETFROM:+1030
TZOFFSETTO:+0930
TZNAME:ACST
DTSTART:20260404T163000
END:STANDARD
BEGIN:DAYLIGHT
TZOFFSETFROM:+0930
TZOFFSETTO:+1030
TZNAME:ACDT
DTSTART:20261003T163000
END:DAYLIGHT
BEGIN:STANDARD
TZOFFSETFROM:+1030
TZOFFSETTO:+0930
TZNAME:ACST
DTSTART:20270403T163000
END:STANDARD
BEGIN:DAYLIGHT
TZOFFSETFROM:+0930
TZOFFSETTO:+1030
TZNAME:ACDT
DTSTART:20271002T163000
END:DAYLIGHT
END:VTIMEZONE
BEGIN:VEVENT
DTSTART;TZID=Australia/Adelaide:20260814T120000
DTEND;TZID=Australia/Adelaide:20260814T140000
DTSTAMP:20260420T184948
CREATED:20240504T111312Z
LAST-MODIFIED:20260405T231549Z
UID:2986-1786708800-1786716000@plsa.com.au
SUMMARY:Seniors Fortnight - Litchfield Council - Lunch
DESCRIPTION:Venue: The Humpty Doo & Rual Area Golf Club.(Bus provided from – Palmerston and Coolalinga only) \nAddress: 565 Power Road\, HUMPTY DOO NT 0835 (Norm Lane). \nDescription: An excellent location. \nNarration: Join the Litchfield Council Mayor – Racheal Wright for lunch – have a chat!  What could be better than sitting on the verandah of the Humpty Doo and Rural Area Golf Club\, enjoying lunch with friends in an idyllic setting. Drinks are available from the bar either cash or credit card.  Check Seniors Fortnight Program regarding bus departure times. \nSales – Special Seniors Fortnight Raffle\, $2.00 each – great prizes (cash or credit card payment).  1st prize donated by The House of Pearls – Freshwater Pearl necklace\, bracelet and earrings – value $1\,000.00.  Transport Available form Palmerston. \nRegistration: Check in commences at 11:15am. \nSponsors:  Litchfield Council\, Palmerston & Litchfield Business Houses and Palmerston and Litchfield Seniors Association Inc.
URL:https://plsa.com.au/event/litchfield-council-humpty-doo-rural-area-golf-club-lunch/
LOCATION:Humpty Doo & Rural Area Golf Club\, 565 Pioneer Road\, HUMPTY DOO\, NT\, 0836\, Australia
END:VEVENT
END:VCALENDAR