BEGIN:VCALENDAR
VERSION:2.0
PRODID:-//Palmerston and Litchfield Seniors Association - ECPv6.15.20//NONSGML v1.0//EN
CALSCALE:GREGORIAN
METHOD:PUBLISH
X-WR-CALNAME:Palmerston and Litchfield Seniors Association
X-ORIGINAL-URL:https://plsa.com.au
X-WR-CALDESC:Events for Palmerston and Litchfield Seniors Association
REFRESH-INTERVAL;VALUE=DURATION:PT1H
X-Robots-Tag:noindex
X-PUBLISHED-TTL:PT1H
BEGIN:VTIMEZONE
TZID:Australia/Adelaide
BEGIN:STANDARD
TZOFFSETFROM:+1030
TZOFFSETTO:+0930
TZNAME:ACST
DTSTART:20250405T163000
END:STANDARD
BEGIN:DAYLIGHT
TZOFFSETFROM:+0930
TZOFFSETTO:+1030
TZNAME:ACDT
DTSTART:20251004T163000
END:DAYLIGHT
BEGIN:STANDARD
TZOFFSETFROM:+1030
TZOFFSETTO:+0930
TZNAME:ACST
DTSTART:20260404T163000
END:STANDARD
BEGIN:DAYLIGHT
TZOFFSETFROM:+0930
TZOFFSETTO:+1030
TZNAME:ACDT
DTSTART:20261003T163000
END:DAYLIGHT
BEGIN:STANDARD
TZOFFSETFROM:+1030
TZOFFSETTO:+0930
TZNAME:ACST
DTSTART:20270403T163000
END:STANDARD
BEGIN:DAYLIGHT
TZOFFSETFROM:+0930
TZOFFSETTO:+1030
TZNAME:ACDT
DTSTART:20271002T163000
END:DAYLIGHT
END:VTIMEZONE
BEGIN:VEVENT
DTSTART;TZID=Australia/Adelaide:20261127T130000
DTEND;TZID=Australia/Adelaide:20261127T133000
DTSTAMP:20260420T213009
CREATED:20231228T201529Z
LAST-MODIFIED:20251205T215026Z
UID:2769-1795784400-1795786200@plsa.com.au
SUMMARY:Annual General Meeting 2026
DESCRIPTION:Venue: Meeting Room\, Gray Hall. \nAddress: Cnr Victoria Ave and Essington Ave\, GRAY NT 0830. \nDescription: Annual General Committee Meeting. \nSponsor: Palmerston And Litchfield Seniors Association Inc.
URL:https://plsa.com.au/event/general-committee-meeting-20/
LOCATION:Gray Hall\, cnr Essington and Victoria Avenue\, GRAY\, Northern Territory\, 0832\, Australia
END:VEVENT
BEGIN:VEVENT
DTSTART;TZID=Australia/Adelaide:20261127T134500
DTEND;TZID=Australia/Adelaide:20261127T160000
DTSTAMP:20260420T213009
CREATED:20231228T201648Z
LAST-MODIFIED:20251205T215305Z
UID:2772-1795787100-1795795200@plsa.com.au
SUMMARY:General Committee Meeting (November Meeting)
DESCRIPTION:Venue: Meeting Room\, Gray Hall. \nAddress: Cnr Victoria Ave and Essington Ave\, GRAY NT. \nDescription: Monthly General Committee Meeting (last for 2026) \nSponsor: Palmerston And Litchfield Seniors Association Inc.
URL:https://plsa.com.au/event/general-committee-meeting-21/
LOCATION:Gray Hall\, cnr Essington and Victoria Avenue\, GRAY\, Northern Territory\, 0832\, Australia
END:VEVENT
END:VCALENDAR