BEGIN:VCALENDAR
VERSION:2.0
PRODID:-//Palmerston and Litchfield Seniors Association - ECPv6.15.20//NONSGML v1.0//EN
CALSCALE:GREGORIAN
METHOD:PUBLISH
X-ORIGINAL-URL:https://plsa.com.au
X-WR-CALDESC:Events for Palmerston and Litchfield Seniors Association
REFRESH-INTERVAL;VALUE=DURATION:PT1H
X-Robots-Tag:noindex
X-PUBLISHED-TTL:PT1H
BEGIN:VTIMEZONE
TZID:Australia/Adelaide
BEGIN:STANDARD
TZOFFSETFROM:+1030
TZOFFSETTO:+0930
TZNAME:ACST
DTSTART:20250405T163000
END:STANDARD
BEGIN:DAYLIGHT
TZOFFSETFROM:+0930
TZOFFSETTO:+1030
TZNAME:ACDT
DTSTART:20251004T163000
END:DAYLIGHT
BEGIN:STANDARD
TZOFFSETFROM:+1030
TZOFFSETTO:+0930
TZNAME:ACST
DTSTART:20260404T163000
END:STANDARD
BEGIN:DAYLIGHT
TZOFFSETFROM:+0930
TZOFFSETTO:+1030
TZNAME:ACDT
DTSTART:20261003T163000
END:DAYLIGHT
BEGIN:STANDARD
TZOFFSETFROM:+1030
TZOFFSETTO:+0930
TZNAME:ACST
DTSTART:20270403T163000
END:STANDARD
BEGIN:DAYLIGHT
TZOFFSETFROM:+0930
TZOFFSETTO:+1030
TZNAME:ACDT
DTSTART:20271002T163000
END:DAYLIGHT
END:VTIMEZONE
BEGIN:VEVENT
DTSTART;TZID=Australia/Adelaide:20260204T100000
DTEND;TZID=Australia/Adelaide:20260204T120000
DTSTAMP:20260420T094216
CREATED:20231226T040431Z
LAST-MODIFIED:20251205T201257Z
UID:2399-1770199200-1770206400@plsa.com.au
SUMMARY:Humpty Doo & Rural Area Golf Club - Seniors Morning Tea
DESCRIPTION:Venue: Humpty Doo & Rural Area Golf Club. \nAddress: 565 Pioneer Road\, HUMPTY DOO NT (Norm Lane). \nWhen: FIRST WEDNESDAY of the month. We run a raffle at each morning tea. \nDescription: Why not? Of course – Morning Tea\, companionship\, meet new people\, reunite with old friends over a Cupa and a natter.  Never know\, you might even win a raffle prize! \nSponsor: Humpty Doo & Rural Area Golf Club & Palmerston And Litchfield Seniors Association Inc.
URL:https://plsa.com.au/event/humpty-doo-rural-area-golf-club-morning-tea/
LOCATION:Humpty Doo & Rural Area Golf Club\, 565 Pioneer Road\, HUMPTY DOO\, NT\, 0836\, Australia
END:VEVENT
BEGIN:VEVENT
DTSTART;VALUE=DATE:20260206
DTEND;VALUE=DATE:20260207
DTSTAMP:20260420T094216
CREATED:20231226T042501Z
LAST-MODIFIED:20251205T201148Z
UID:2412-1770336000-1770422399@plsa.com.au
SUMMARY:Newsletter Articles Close - February 2026
DESCRIPTION:Description: Newsletter articles are to be emailed to the Secretary – secretary@plsa.com.au \nSponsor: Palmerston And Litchfield Seniors Association Inc.
URL:https://plsa.com.au/event/newsletter-articles-close-february-2/
LOCATION:PLSA
END:VEVENT
BEGIN:VEVENT
DTSTART;TZID=Australia/Adelaide:20260209T100000
DTEND;TZID=Australia/Adelaide:20260209T120000
DTSTAMP:20260420T094216
CREATED:20231226T011925Z
LAST-MODIFIED:20251205T201057Z
UID:2323-1770631200-1770638400@plsa.com.au
SUMMARY:Management Team Meeting (Closed Meeting)
DESCRIPTION:Venue: Brennan Electorate Office.\nAddress: 10 Temple Terrace\, Palmerston NT.\nAttendees: Management Tea and invited Guests. \nDescription: Monthly Management Team Meeting. \nSponsor: Palmerston And Litchfield Seniors Association Inc.
URL:https://plsa.com.au/event/management-team-meeting-closed-meeting-11/
LOCATION:Brennan Electorate Office\, Shop 2\, Palmerston Shopping Centre\, Palmerston\, Northern Territory\, 0830\, Australia
END:VEVENT
BEGIN:VEVENT
DTSTART;TZID=Australia/Adelaide:20260212T100000
DTEND;TZID=Australia/Adelaide:20260212T120000
DTSTAMP:20260420T094216
CREATED:20231226T041042Z
LAST-MODIFIED:20251205T201007Z
UID:2405-1770890400-1770897600@plsa.com.au
SUMMARY:Cazalys Palmerston Club - Seniors Morning Tea
DESCRIPTION:Venue: Cazalys Palmerston Club. \nAddress: 10 Temple Terrace\, PALMERSTON NT 0830. \nWhen: Morning Tea held on the SECOND and FORTH Thursday each month. We run a raffle at each morning tea. \nDescription: Why not\, morning tea\, meet people\, reunite with old friends. Never know\, you might win a raffle prize. \nSponsors: Cazalys Palmerston Club & Palmerston And Litchfield Seniors Association Inc.
URL:https://plsa.com.au/event/cazalys-palmerston-club-morning-tea-4/
LOCATION:Cazalys Palmerston Club\, 10 Temple Terrace\, PALMERSTON NT 0831\, NT\, 0831\, Australia
END:VEVENT
BEGIN:VEVENT
DTSTART;TZID=Australia/Adelaide:20260216T100000
DTEND;TZID=Australia/Adelaide:20260216T130000
DTSTAMP:20260420T094216
CREATED:20231226T023733Z
LAST-MODIFIED:20260112T202903Z
UID:2394-1771236000-1771246800@plsa.com.au
SUMMARY:Darwin Family Law - Movie and Morning Tea
DESCRIPTION:Venue: Event Cinemas Yarrawonga. \nAddress: 18 Roystonea Avenue\, YARRAWONGA NT (Gateway Shopping Centre). \nDescription:  Vmax Cinema every time – join us for the Movie and Morning Tea. \nNarration: Movie – Crime 101. Members free.  Bring a friend\, just $15.00 for morning tea and movie for non-members\, pay on the day. VMax Cinema. \nAn elusive thief\, eyeing his final score\, encounters a disillusioned insurance broker at her own crossroads. As their paths intertwine\, a relentless detective trails them hoping to thwart the multi-million-dollar heist they are planning. \n\n\nDirector\n\n\nBart Layton\n\n\n\nWriters\n\n\nBart Layton\nDon Winslow\n\n\n\nStars\n\n\nChris Hemsworth\nMark Ruffalo\nHalle Berry\n\n\n\n\n\nSponsors: Darwin Family Law & Event Cinemas Yarrawonga\n  \n  \n 
URL:https://plsa.com.au/event/darwin-family-law-movie-and-morning-tea/
LOCATION:Event Cinema\, Gateway\, Palmerston\, Northern Territory\, 0831\, Australia
END:VEVENT
BEGIN:VEVENT
DTSTART;VALUE=DATE:20260220
DTEND;VALUE=DATE:20260221
DTSTAMP:20260420T094216
CREATED:20231226T042740Z
LAST-MODIFIED:20251205T200826Z
UID:2416-1771545600-1771631999@plsa.com.au
SUMMARY:Newsletter  Distributed - February 2026
DESCRIPTION:Distributed: Newsletters emailed to Sponsors and posted to Members with no email address. \nMembers (Email Address): To view your Newsletter\, log onto plsa.com.au\, click on Newsletters and select the Newsletter you wish to read. \nSponsor: Palmerston And Litchfield Seniors Association Inc.
URL:https://plsa.com.au/event/newsletter-articles-distributed-february/
LOCATION:PLSA
END:VEVENT
BEGIN:VEVENT
DTSTART;TZID=Australia/Adelaide:20260226T100000
DTEND;TZID=Australia/Adelaide:20260226T120000
DTSTAMP:20260420T094216
CREATED:20231226T040914Z
LAST-MODIFIED:20251205T200740Z
UID:2402-1772100000-1772107200@plsa.com.au
SUMMARY:Cazalys Palmerston Club Seniors Morning Tea & Bingo
DESCRIPTION:Venue: Cazalys Palmerston Club \nAddress: 10 Temple Terrace\, PALMERSTON NT 0830 \nWhen: Morning Tea is held on the SECOND and FOURTH Thursday of every month. We run a raffle at each morning tea. \nDescription: Why not\, morning tea\, meet people\, reunite with old friends. Never know\, you might win a raffle prize and of course there is Bingo! \nSponsors: Cazalys Palmerston Club & Palmerston And Litchfield Seniors Association Inc.
URL:https://plsa.com.au/event/cazalys-palmerston-club-morning-tea-bingo/
LOCATION:Cazalys Palmerston Club\, 10 Temple Terrace\, PALMERSTON NT 0831\, NT\, 0831\, Australia
END:VEVENT
BEGIN:VEVENT
DTSTART;TZID=Australia/Adelaide:20260227T130000
DTEND;TZID=Australia/Adelaide:20260227T153000
DTSTAMP:20260420T094216
CREATED:20231226T041410Z
LAST-MODIFIED:20251205T200651Z
UID:2408-1772197200-1772206200@plsa.com.au
SUMMARY:General Committee Meeting (February Meeting)
DESCRIPTION:Venue: Meeting Room\, Gray Hall. \nAddress: cnr Victoria Ave and Essington Ave\, GRAY NT 0830. \nDescription: Monthly General Committee Meeting \nAttendees: Committee\, Guests and Members. \nSponsor: Palmerston And Litchfield Seniors Association Inc.
URL:https://plsa.com.au/event/general-committee-meeting-9/
LOCATION:Palmerston Recreation Centre
END:VEVENT
END:VCALENDAR