BEGIN:VCALENDAR
VERSION:2.0
PRODID:-//Palmerston and Litchfield Seniors Association - ECPv6.15.20//NONSGML v1.0//EN
CALSCALE:GREGORIAN
METHOD:PUBLISH
X-ORIGINAL-URL:https://plsa.com.au
X-WR-CALDESC:Events for Palmerston and Litchfield Seniors Association
REFRESH-INTERVAL;VALUE=DURATION:PT1H
X-Robots-Tag:noindex
X-PUBLISHED-TTL:PT1H
BEGIN:VTIMEZONE
TZID:Australia/Adelaide
BEGIN:STANDARD
TZOFFSETFROM:+1030
TZOFFSETTO:+0930
TZNAME:ACST
DTSTART:20250405T163000
END:STANDARD
BEGIN:DAYLIGHT
TZOFFSETFROM:+0930
TZOFFSETTO:+1030
TZNAME:ACDT
DTSTART:20251004T163000
END:DAYLIGHT
BEGIN:STANDARD
TZOFFSETFROM:+1030
TZOFFSETTO:+0930
TZNAME:ACST
DTSTART:20260404T163000
END:STANDARD
BEGIN:DAYLIGHT
TZOFFSETFROM:+0930
TZOFFSETTO:+1030
TZNAME:ACDT
DTSTART:20261003T163000
END:DAYLIGHT
BEGIN:STANDARD
TZOFFSETFROM:+1030
TZOFFSETTO:+0930
TZNAME:ACST
DTSTART:20270403T163000
END:STANDARD
BEGIN:DAYLIGHT
TZOFFSETFROM:+0930
TZOFFSETTO:+1030
TZNAME:ACDT
DTSTART:20271002T163000
END:DAYLIGHT
END:VTIMEZONE
BEGIN:VEVENT
DTSTART;TZID=Australia/Adelaide:20260304T100000
DTEND;TZID=Australia/Adelaide:20260304T120000
DTSTAMP:20260420T075552
CREATED:20231226T043059Z
LAST-MODIFIED:20251205T200521Z
UID:2422-1772618400-1772625600@plsa.com.au
SUMMARY:Humpty Doo & Rural Area Golf Club - Seniors Morning Tea
DESCRIPTION:Venue: Humpty Doo & Rural Area Golf Club. \nAddress: 565 Pioneer Road\, HUMPTY DOO NT (Norm Lane). \nWhen: FIRST WEDNESDAY of the month. We run a raffle at each morning tea. \nDescription: Why not? Of course – Morning Tea\, companionship\, meet new people\, reunite with old friends over a cuppa and a natter.  Never know\, you might even win a raffle prize! \nAttendees: Seniors\, Carers and friends. \nSponsor: Humpty Doo & Rural Area Golf Club & Palmerston And Litchfield Seniors Association Inc.
URL:https://plsa.com.au/event/humpty-doo-rural-area-golf-club-morning-tea-2/
LOCATION:Humpty Doo & Rural Area Golf Club\, 565 Pioneer Road\, HUMPTY DOO\, NT\, 0836\, Australia
END:VEVENT
BEGIN:VEVENT
DTSTART;TZID=Australia/Adelaide:20260305T100000
DTEND;TZID=Australia/Adelaide:20260305T120000
DTSTAMP:20260420T075552
CREATED:20240101T060023Z
LAST-MODIFIED:20251205T200414Z
UID:2846-1772704800-1772712000@plsa.com.au
SUMMARY:HPA - P.E.G. Day Program (Participate\, Engage and Grow) - Morning Tea (Invitation Only)
DESCRIPTION:Venue: Helping People Achieve (HPA). \nAddress: 46 Toupin Road\, YARRAWONGA NT. \nDescription: PEG Day Program (PEG).  The PLSA interacts with the PEG Day Program\, joining them for Morning Tea.  PEG Day Program participants also attend Darwin Family Law Movie and Morning Tea. \nContact: The PLSA contact is Glenda Bradbury 0447 019 778 or email: – assistantsecretary@plsa.com.au. \nNarrative: This event is by invitation only. \nSponsor: Helping People Achieve (HPA)
URL:https://plsa.com.au/event/hpa-participate-engage-and-grow-p-e-g-day-program-morning-tea-invitation-only/
LOCATION:P.E.G Yarrawonga\, 46 Toupein Road\, Yarrawonga\, NT\, 0830\, Australia
END:VEVENT
BEGIN:VEVENT
DTSTART;TZID=Australia/Adelaide:20260309T100000
DTEND;TZID=Australia/Adelaide:20260309T120000
DTSTAMP:20260420T075552
CREATED:20231226T012138Z
LAST-MODIFIED:20251205T200318Z
UID:2326-1773050400-1773057600@plsa.com.au
SUMMARY:Management Team Meeting (Closed Meeting)
DESCRIPTION:Venue: Brennan Electorate Office\nAddress: Shop 2 Palmerston Shopping Centre\, 10 Temple Terrace Palmerston \nDescription: Management Team monthly meeting \nAttendees: Management Team and invited Guests. \nSponsor: Palmerston And Litchfield Seniors Association Inc.
URL:https://plsa.com.au/event/management-team-meeting-closed-meeting-12/
LOCATION:Brennan Electorate Office\, Shop 2\, Palmerston Shopping Centre\, Palmerston\, Northern Territory\, 0830\, Australia
END:VEVENT
BEGIN:VEVENT
DTSTART;TZID=Australia/Adelaide:20260312T100000
DTEND;TZID=Australia/Adelaide:20260312T120000
DTSTAMP:20260420T075552
CREATED:20231226T043410Z
LAST-MODIFIED:20260330T202013Z
UID:2429-1773309600-1773316800@plsa.com.au
SUMMARY:Cazalys Palmerston Club - Seniors Morning Tea
DESCRIPTION:Venue: Cazalys Palmerston Club \nAddress: 10 Temple Terrace\, PALMERSTON NT 0830 \nWhen: Morning Tea held on the SECOND and FORTH Thursday each month. We run a raffle at each morning tea. \nDescription: Why not\, morning tea\, meet people\, reunite with old friends. Never know\, you might win a raffle prize. We run a raffle each morning tea. \nGuest Speakers: Blooms Chemists (Silver Sponsor) 10:45am to 11;00am. \n  \nSponsor: Cazalys Palmerston Club & Palmerston And Litchfield Seniors Association Inc.
URL:https://plsa.com.au/event/cazalys-palmerston-club-morning-tea-5/
LOCATION:Cazalys Palmerston Club\, 10 Temple Terrace\, PALMERSTON NT 0831\, NT\, 0831\, Australia
END:VEVENT
BEGIN:VEVENT
DTSTART;TZID=Australia/Adelaide:20260316T114500
DTEND;TZID=Australia/Adelaide:20260316T133000
DTSTAMP:20260420T075552
CREATED:20241127T055649Z
LAST-MODIFIED:20251205T200145Z
UID:3200-1773661500-1773667800@plsa.com.au
SUMMARY:Bells Bar & Bistro - Bimonthly Lunch
DESCRIPTION:Venue:  Bells Bar & Bistro \nVenue: 127 Flynn Circuit BELLAMACK\, NT \nDescription: An enjoyable lunch. \nNarration: Registrations for lunch will be taken at Morning Teas – maximum number of attendees 40. Lunch orders taken at time of booking.  Meals will be ready shortly after we arrive. Purchase drinks from the bar (cash or credit card). No transport provided. \nSponsor: Palmerston And Litchfield Seniors Association Inc.
URL:https://plsa.com.au/event/flynns-bimonthly-lunch/
LOCATION:Bells Bar & Bistro\, 1/27 Flynn Circuit\, BELLAMACK\, NT\, 0832\, Australia
END:VEVENT
BEGIN:VEVENT
DTSTART;TZID=Australia/Adelaide:20260326T100000
DTEND;TZID=Australia/Adelaide:20260326T120000
DTSTAMP:20260420T075552
CREATED:20231226T043253Z
LAST-MODIFIED:20251205T200056Z
UID:2426-1774519200-1774526400@plsa.com.au
SUMMARY:Cazalys Palmerston Club - Seniors Morning Tea & Bingo
DESCRIPTION:Venue: Cazalys Palmerston Club \nAddress: 10 Temple Terrace\, PALMERSTON NT 0830 \nWhen: Morning Tea SECOND and FOURTH Thursday of the month. \nDescription: Why not\, morning tea\, meet people\, reunite with old friends. Never know\, you might win a raffle prize as we run a raffle each morning tea and of course there is Bingo! \nNarration:  \nSponsor: Cazalys Palmerston Club & Palmerston And Litchfield Seniors Association Inc.
URL:https://plsa.com.au/event/cazalys-palmerston-club-morning-tea-bingo-2/
LOCATION:Cazalys Palmerston Club\, 10 Temple Terrace\, PALMERSTON NT 0831\, NT\, 0831\, Australia
END:VEVENT
BEGIN:VEVENT
DTSTART;TZID=Australia/Adelaide:20260327T130000
DTEND;TZID=Australia/Adelaide:20260327T160000
DTSTAMP:20260420T075552
CREATED:20231226T043551Z
LAST-MODIFIED:20251205T200010Z
UID:2432-1774616400-1774627200@plsa.com.au
SUMMARY:General Committee Meeting (March Meeting)
DESCRIPTION:Venue: Meeting Room\, Gray Hall. \nAddress: Cnr Victorian Ave and Essington Ave GRAY NT 0830 \nDescription: Monthly General Committee Meeting \nAttendees: Committee Members\, Guests and members \nSponsor: Palmerston And Litchfield Seniors Association Inc.
URL:https://plsa.com.au/event/general-committee-meeting-14/
LOCATION:Room 2 – Palmerston Recreation Centre\, 11 The Boulevard\, PALMERSTON NT 0831\, NT\, 0830\, Australia
END:VEVENT
END:VCALENDAR