BEGIN:VCALENDAR
VERSION:2.0
PRODID:-//Palmerston and Litchfield Seniors Association - ECPv6.15.20//NONSGML v1.0//EN
CALSCALE:GREGORIAN
METHOD:PUBLISH
X-ORIGINAL-URL:https://plsa.com.au
X-WR-CALDESC:Events for Palmerston and Litchfield Seniors Association
REFRESH-INTERVAL;VALUE=DURATION:PT1H
X-Robots-Tag:noindex
X-PUBLISHED-TTL:PT1H
BEGIN:VTIMEZONE
TZID:Australia/Adelaide
BEGIN:STANDARD
TZOFFSETFROM:+1030
TZOFFSETTO:+0930
TZNAME:ACST
DTSTART:20250405T163000
END:STANDARD
BEGIN:DAYLIGHT
TZOFFSETFROM:+0930
TZOFFSETTO:+1030
TZNAME:ACDT
DTSTART:20251004T163000
END:DAYLIGHT
BEGIN:STANDARD
TZOFFSETFROM:+1030
TZOFFSETTO:+0930
TZNAME:ACST
DTSTART:20260404T163000
END:STANDARD
BEGIN:DAYLIGHT
TZOFFSETFROM:+0930
TZOFFSETTO:+1030
TZNAME:ACDT
DTSTART:20261003T163000
END:DAYLIGHT
BEGIN:STANDARD
TZOFFSETFROM:+1030
TZOFFSETTO:+0930
TZNAME:ACST
DTSTART:20270403T163000
END:STANDARD
BEGIN:DAYLIGHT
TZOFFSETFROM:+0930
TZOFFSETTO:+1030
TZNAME:ACDT
DTSTART:20271002T163000
END:DAYLIGHT
END:VTIMEZONE
BEGIN:VEVENT
DTSTART;TZID=Australia/Adelaide:20260601T100000
DTEND;TZID=Australia/Adelaide:20260601T120000
DTSTAMP:20260420T094046
CREATED:20231226T013008Z
LAST-MODIFIED:20251205T194624Z
UID:2335-1780308000-1780315200@plsa.com.au
SUMMARY:Management Team Meeting (Closed Meeting)
DESCRIPTION:Venue: Brennan Electorate Office.\nAddress: shop 2\, Palmerston Shopping Centre\, 10 Temple Terrace PALMERSTON. \nSponsor: Palmerston And Litchfield Seniors Association Inc.
URL:https://plsa.com.au/event/management-team-meeting-closed-meeting-15/
LOCATION:Brennan Electorate Office\, Shop 2\, Palmerston Shopping Centre\, Palmerston\, Northern Territory\, 0830\, Australia
END:VEVENT
BEGIN:VEVENT
DTSTART;TZID=Australia/Adelaide:20260603T100000
DTEND;TZID=Australia/Adelaide:20260603T120000
DTSTAMP:20260420T094046
CREATED:20231226T064724Z
LAST-MODIFIED:20251205T193759Z
UID:2442-1780480800-1780488000@plsa.com.au
SUMMARY:Humpty Doo & Rural Area Golf Club - Seniors Morning Tea
DESCRIPTION:Venue: Humpty Doo & Rural Area Golf Club. \nAddress: 565 Pioneer Road\, HUMPTY DOO NT (Norm Lane). \nWhen: FIRST WEDNESDAY of the month. We run a raffle at each morning tea. \nDescription: Why not? Of course – Morning Tea\, companionship\, meet new people\, reunite with old friends over a cuppa and a natter.  We run a raffle at each morning tea. \nSponsor: Humpty Doo & Rural Area Golf Club & Palmerston And Litchfield Seniors Association Inc.
URL:https://plsa.com.au/event/humpty-doo-rural-area-golf-club-morning-tea-5/
LOCATION:Humpty Doo & Rural Area Golf Club\, 565 Pioneer Road\, HUMPTY DOO\, NT\, 0836\, Australia
END:VEVENT
BEGIN:VEVENT
DTSTART;TZID=Australia/Adelaide:20260604T100000
DTEND;TZID=Australia/Adelaide:20260604T120000
DTSTAMP:20260420T094046
CREATED:20240101T060228Z
LAST-MODIFIED:20251205T193658Z
UID:2850-1780567200-1780574400@plsa.com.au
SUMMARY:HPA - P.E.G. Day Program (Participate\, Engage and Grow) - Morning Tea (Invitation Only)
DESCRIPTION:Venue: Helping People Achieve (HPA) \nAddress: 46 Toupein Road\, YARRAWONGA NT \nDescription: PEG Day Program (PEG).  The PLSA interacts with the PEG Day Program\, joining them for Morning Tea.  PEG Day Program participants also attend Darwin Family Law Movie and Morning Tea in a quid pro quo arrangement. \nContact: The contact for this event will be Glenda Bradbury 0447 019 778 or email: – assistantsecretary@plsa.com.au. \nAttendees: Attendance will by invitation Only. \nSponsor: Helping People Achieve (HPA)
URL:https://plsa.com.au/event/hpa-participate-engage-and-grow-p-e-g-morning-tea-invitation-only/
LOCATION:P.E.G Yarrawonga\, 46 Toupein Road\, Yarrawonga\, NT\, 0830\, Australia
END:VEVENT
BEGIN:VEVENT
DTSTART;VALUE=DATE:20260605
DTEND;VALUE=DATE:20260606
DTSTAMP:20260420T094046
CREATED:20231226T090224Z
LAST-MODIFIED:20251205T193620Z
UID:2556-1780617600-1780703999@plsa.com.au
SUMMARY:Newsletter Articles Close - June
DESCRIPTION:Description: Newsletter articles are to be emailed to the Secretary at secretary@plsa.com.au. \nSponsor: Palmerston And Litchfield Seniors Association Inc.
URL:https://plsa.com.au/event/newsletter-articles-close-may/
LOCATION:PLSA
END:VEVENT
BEGIN:VEVENT
DTSTART;VALUE=DATE:20260608
DTEND;VALUE=DATE:20260609
DTSTAMP:20260420T094046
CREATED:20231226T014347Z
LAST-MODIFIED:20251203T034156Z
UID:2365-1780876800-1780963199@plsa.com.au
SUMMARY:Kings Birthday (Public Holiday)
DESCRIPTION:
URL:https://plsa.com.au/event/kings-birthday/
END:VEVENT
BEGIN:VEVENT
DTSTART;TZID=Australia/Adelaide:20260611T100000
DTEND;TZID=Australia/Adelaide:20260611T120000
DTSTAMP:20260420T094046
CREATED:20231226T073300Z
LAST-MODIFIED:20251205T193538Z
UID:2511-1781172000-1781179200@plsa.com.au
SUMMARY:Cazalys Palmerston Club - Seniors Morning Tea
DESCRIPTION:Venue: Cazalys Palmerston Club. \nAddress: 10 Temple Terrace\, PALMERSTON NT 0830. \nDescription: Why not\, morning tea\, meet people\, reunite with old friends. We run a raffle at each morning tea. \nSponsor: Cazalys Palmerston Club & Palmerston And Litchfield Seniors Association Inc.
URL:https://plsa.com.au/event/cazalys-palmerston-club-morning-tea-8/
LOCATION:Cazalys Palmerston Club\, 10 Temple Terrace\, PALMERSTON NT 0831\, NT\, 0831\, Australia
END:VEVENT
BEGIN:VEVENT
DTSTART;TZID=Australia/Adelaide:20260615T100000
DTEND;TZID=Australia/Adelaide:20260615T130000
DTSTAMP:20260420T094046
CREATED:20231227T205048Z
LAST-MODIFIED:20251205T193431Z
UID:2594-1781517600-1781528400@plsa.com.au
SUMMARY:Darwin Family Law - Movie & Morning Tea
DESCRIPTION:Venue: Event Cinemas Yarrawonga. \nAddress: 18 Roystonea Avenue\, YARRAWONGA NT (Gateway Shopping Centre). \nDescription:  Vmax cinema every time – join us for the Movie and Morning Tea. This movie is free to members to attend. \nNarration: TBA. \nSponsor: Darwin Family Law & Event Cinemas
URL:https://plsa.com.au/event/darwin-family-law-movie-morning-tea-4/
LOCATION:Event Cinema\, Gateway\, Palmerston\, Northern Territory\, 0831\, Australia
END:VEVENT
BEGIN:VEVENT
DTSTART;VALUE=DATE:20260619
DTEND;VALUE=DATE:20260620
DTSTAMP:20260420T094046
CREATED:20231227T201947Z
LAST-MODIFIED:20251205T193347Z
UID:2563-1781827200-1781913599@plsa.com.au
SUMMARY:Newsletter Distributed - June
DESCRIPTION:Distributed: Newsletters emailed to Sponsors and posted to members with no email address. \nMembers (Email Address): To view your Newsletter long onto plsa.com.au\, click on Newsletter and select the Newsletter you wish to read. \nSponsor: Palmerston And Litchfield Seniors Association Inc.
URL:https://plsa.com.au/event/newsletters-distributed/
LOCATION:PLSA
END:VEVENT
BEGIN:VEVENT
DTSTART;VALUE=DATE:20260619
DTEND;VALUE=DATE:20260620
DTSTAMP:20260420T094046
CREATED:20231227T202508Z
LAST-MODIFIED:20251204T034519Z
UID:2571-1781827200-1781913599@plsa.com.au
SUMMARY:School Term 2 Finishes - Northern Territory
DESCRIPTION:School: Term 2 concludes 19 June 2026.
URL:https://plsa.com.au/event/school-term-2-finishes-northern-territory/
LOCATION:PLSA
END:VEVENT
BEGIN:VEVENT
DTSTART;TZID=Australia/Adelaide:20260625T100000
DTEND;TZID=Australia/Adelaide:20260625T120000
DTSTAMP:20260420T094046
CREATED:20231226T072350Z
LAST-MODIFIED:20251205T193110Z
UID:2488-1782381600-1782388800@plsa.com.au
SUMMARY:Cazalys Palmerston Club - Seniors Morning Tea & Bingo
DESCRIPTION:Venue: Cazalys Palmerston Club \nAddress: 10 Temple Terrace\, PALMERSTON NT 0830 \nDescription: Why not\, morning tea\, meet people\, reunite with old friends. Never know\, you might win a raffle prize as we run a raffle each morning tea and of course there is Bingo! \nSponsor: Cazalys Palmerston Club & Palmerston And Litchfield Seniors Association Inc.
URL:https://plsa.com.au/event/cazalys-palmerston-club-morning-tea-bingo-4/
LOCATION:Cazalys Palmerston Club\, 10 Temple Terrace\, PALMERSTON NT 0831\, NT\, 0831\, Australia
END:VEVENT
BEGIN:VEVENT
DTSTART;TZID=Australia/Adelaide:20260626T130000
DTEND;TZID=Australia/Adelaide:20260626T153000
DTSTAMP:20260420T094046
CREATED:20231227T202715Z
LAST-MODIFIED:20251205T193022Z
UID:2574-1782478800-1782487800@plsa.com.au
SUMMARY:General Committee Meeting (June Meeting)
DESCRIPTION:Venue: Meeting Room\, Gray Hall. \nAddress: 1Cnr Victoria Ave and Essington Ave\, GRAY NT 0830 \nDescription: Monthly General Committee Meeting. \nAttendees:  Committee Members\, Guests and Members. \nSponsor: Palmerston And Litchfield Seniors Association Inc.
URL:https://plsa.com.au/event/general-committee-meeting-17/
LOCATION:Gray Hall\, cnr Essington and Victoria Avenue\, GRAY\, Northern Territory\, 0832\, Australia
END:VEVENT
END:VCALENDAR