BEGIN:VCALENDAR
VERSION:2.0
PRODID:-//Palmerston and Litchfield Seniors Association - ECPv6.15.20//NONSGML v1.0//EN
CALSCALE:GREGORIAN
METHOD:PUBLISH
X-WR-CALNAME:Palmerston and Litchfield Seniors Association
X-ORIGINAL-URL:https://plsa.com.au
X-WR-CALDESC:Events for Palmerston and Litchfield Seniors Association
REFRESH-INTERVAL;VALUE=DURATION:PT1H
X-Robots-Tag:noindex
X-PUBLISHED-TTL:PT1H
BEGIN:VTIMEZONE
TZID:Australia/Adelaide
BEGIN:STANDARD
TZOFFSETFROM:+1030
TZOFFSETTO:+0930
TZNAME:ACST
DTSTART:20250405T163000
END:STANDARD
BEGIN:DAYLIGHT
TZOFFSETFROM:+0930
TZOFFSETTO:+1030
TZNAME:ACDT
DTSTART:20251004T163000
END:DAYLIGHT
BEGIN:STANDARD
TZOFFSETFROM:+1030
TZOFFSETTO:+0930
TZNAME:ACST
DTSTART:20260404T163000
END:STANDARD
BEGIN:DAYLIGHT
TZOFFSETFROM:+0930
TZOFFSETTO:+1030
TZNAME:ACDT
DTSTART:20261003T163000
END:DAYLIGHT
BEGIN:STANDARD
TZOFFSETFROM:+1030
TZOFFSETTO:+0930
TZNAME:ACST
DTSTART:20270403T163000
END:STANDARD
BEGIN:DAYLIGHT
TZOFFSETFROM:+0930
TZOFFSETTO:+1030
TZNAME:ACDT
DTSTART:20271002T163000
END:DAYLIGHT
END:VTIMEZONE
BEGIN:VEVENT
DTSTART;TZID=Australia/Adelaide:20261103T104500
DTEND;TZID=Australia/Adelaide:20261103T143000
DTSTAMP:20260420T184933
CREATED:20241019T214358Z
LAST-MODIFIED:20251205T210354Z
UID:3060-1793702700-1793716200@plsa.com.au
SUMMARY:Palmerston Tavern - Melbourne Cup Lunch
DESCRIPTION:Venue:  Palmerston Tavern Bistro. \nAddress:  1110 Chung Wah Terrace\, PALMERSTON NT 0830. \nDescription: Come along and enjoy a wonderful lunch and entertainment.  Sweeps\, Door prizes\, Best Fascinator\, Best Male Dress\, Best Female Dress and more. \nBookings: This event is open to members of PLSA\, Probus Palmerston and 50+ Club.  Bookings are through the PLSA. \nNB: Don’t forget – Humpty Doo Golf Course Morning Tea – next day (Thursday 4 November 2026\, 10:00am). \nSponsors: Palmerston Tavern\, Palmerston and Litchfield Business Houses & Palmerston And Litchfield Seniors Association Inc.\n  \n 
URL:https://plsa.com.au/event/melbourne-cup-lunch/
LOCATION:Palmerston Tavern Bistro\, 1110 Chung Wah Terrace\, PALMERSTON\, Northern Territory\, 0830\, Australia
END:VEVENT
BEGIN:VEVENT
DTSTART;TZID=Australia/Adelaide:20261104T100000
DTEND;TZID=Australia/Adelaide:20261104T120000
DTSTAMP:20260420T184933
CREATED:20231226T065654Z
LAST-MODIFIED:20251205T210136Z
UID:2461-1793786400-1793793600@plsa.com.au
SUMMARY:Humpty Doo & Rural Area Golf Club - Seniors Morning Tea
DESCRIPTION:Venue: Humpty Doo & Rural Area Golf Club. \nAddress: 565 Pioneer Road\, HUMPTY DOO NT (Norm Lane). \nWhen: Morning Tea is held the FIRST WEDNESDAY of the month. We run a raffle at each morning tea. \nDescription: Why not? Of course – Morning Tea\, companionship\, meet new people\, reunite with old friends over a cuppa and a natter.  Never know\, you might even win a raffle prize! \nSponsors: Humpty Doo & Rural Area Golf Club & Palmerston And Litchfield Seniors Association Inc.
URL:https://plsa.com.au/event/humpty-doo-rural-area-golf-club-morning-tea-10/
LOCATION:Humpty Doo & Rural Area Golf Club\, 565 Pioneer Road\, HUMPTY DOO\, NT\, 0836\, Australia
END:VEVENT
BEGIN:VEVENT
DTSTART;TZID=Australia/Adelaide:20261106T080000
DTEND;TZID=Australia/Adelaide:20261106T170000
DTSTAMP:20260420T184933
CREATED:20241128T200535Z
LAST-MODIFIED:20251205T210824Z
UID:3390-1793952000-1793984400@plsa.com.au
SUMMARY:Newsletter Articles Close (November)
DESCRIPTION:Sponsor: Palmerston And Litchfield Seniors Association Inc.
URL:https://plsa.com.au/event/newsletter-articles-close-november/
END:VEVENT
BEGIN:VEVENT
DTSTART;TZID=Australia/Adelaide:20261109T100000
DTEND;TZID=Australia/Adelaide:20261109T120000
DTSTAMP:20260420T184933
CREATED:20231228T203441Z
LAST-MODIFIED:20251205T211314Z
UID:2800-1794218400-1794225600@plsa.com.au
SUMMARY:Management Team Meeting (Closed Meeting)
DESCRIPTION:Venue: Brennan Electorate Office\nAddress: Shop 2 Palmerston Shopping Centre\, 10 Temple Terrace PALMERSTON NT. \nAttendees: Management Team and Guests. \nSponsor: Palmerston And Litchfield Seniors Association Inc.
URL:https://plsa.com.au/event/management-team-meeting-closed-meeting-20/
LOCATION:Brennan Electorate Office\, Shop 2\, Palmerston Shopping Centre\, Palmerston\, Northern Territory\, 0830\, Australia
END:VEVENT
BEGIN:VEVENT
DTSTART;TZID=Australia/Adelaide:20261111T110000
DTEND;TZID=Australia/Adelaide:20261111T230500
DTSTAMP:20260420T184933
CREATED:20241129T025341Z
LAST-MODIFIED:20251205T210936Z
UID:3485-1794394800-1794438300@plsa.com.au
SUMMARY:Remembrance Day
DESCRIPTION:Venue: Wherever you happen to be \nAddress: Various \nSponsor: RSL
URL:https://plsa.com.au/event/remembrance-day/
END:VEVENT
BEGIN:VEVENT
DTSTART;TZID=Australia/Adelaide:20261112T100000
DTEND;TZID=Australia/Adelaide:20261112T120000
DTSTAMP:20260420T184933
CREATED:20231226T073907Z
LAST-MODIFIED:20251205T211115Z
UID:2526-1794477600-1794484800@plsa.com.au
SUMMARY:Cazalys Palmerston Club - Seniors Morning Tea
DESCRIPTION:Venue: Cazalys Palmerston Club. \nAddress: 10 Temple Terrace\, PALMERSTON NT. \nWhen: Morning Tea is held on the SECOND and FOURTH Thursday of each month. \nDescription: Why not\, morning tea\, meet people\, reunite with old friends. Never know\, you might win a raffle prize. \nSponsors: Cazalys Palmerston Club & Palmerston And Litchfield Seniors Association Inc.
URL:https://plsa.com.au/event/cazalys-palmerston-club-morning-tea-13/
LOCATION:Cazalys Palmerston Club\, 10 Temple Terrace\, PALMERSTON NT 0831\, NT\, 0831\, Australia
END:VEVENT
BEGIN:VEVENT
DTSTART;TZID=Australia/Adelaide:20261116T114500
DTEND;TZID=Australia/Adelaide:20261116T123000
DTSTAMP:20260420T184933
CREATED:20231228T203214Z
LAST-MODIFIED:20251205T211841Z
UID:2797-1794829500-1794832200@plsa.com.au
SUMMARY:Palmerston Tavern - Bimonthly Lunch
DESCRIPTION:Venue: Berry Springs Tavern \nAddress: 795 Cox Peninsula Road\, BERRY SPRINGS NT 0838. \nDescription: An enjoyable lunch. \nNarration: Registrations for lunch taken at Morning Teas – maximum number of attendees 40. Lunch orders taken at time of booking and members will be given a wrist band on the day.  Meals will be ready shortly after we arrive. Purchase drinks from the bar (cash or credit card). No transport provided. \nSponsor: Palmerston And Litchfield Seniors Association Inc.
URL:https://plsa.com.au/event/darwin-family-law-movie-morning-tea-7/
LOCATION:Berry Springs Tavern\, 795 Cox Peninsula Road\, Berry Springs NT 0838\, Australia
END:VEVENT
BEGIN:VEVENT
DTSTART;VALUE=DATE:20261120
DTEND;VALUE=DATE:20261121
DTSTAMP:20260420T184933
CREATED:20241128T202831Z
LAST-MODIFIED:20251205T212535Z
UID:3406-1795132800-1795219199@plsa.com.au
SUMMARY:Newsletters Distributed - November
DESCRIPTION:Distributed: Newsletters emailed to Sponsors and posted to Members with no email address. \n Members (Email Address): To view your Newsletter\, log onto plsa.com.au\, click on Newsletters and select the Newsletter. \nSponsor: Palmerston And Litchfield Seniors Association Inc.
URL:https://plsa.com.au/event/newsletters-distributed-november/
END:VEVENT
BEGIN:VEVENT
DTSTART;TZID=Australia/Adelaide:20261126T100000
DTEND;TZID=Australia/Adelaide:20261126T120000
DTSTAMP:20260420T184933
CREATED:20231226T072938Z
LAST-MODIFIED:20251205T212729Z
UID:2503-1795687200-1795694400@plsa.com.au
SUMMARY:Cazalys Palmerston Club - Seniors Tea Morning & Bingo
DESCRIPTION:Venue: Cazalys Palmerston Club. \nAddress: 10 Temple Terrace\, PALMERSTON NT. \nWhen: Morning Tea held on the SECOND and FOURTH Thursday each month. \nDescription: Why not\, morning tea\, meet people\, reunite with old friends. Never know\, you might win a raffle prize. \nSponsors: Cazalys Palmerston Club & Palmerston And Litchfield Seniors Association Inc.
URL:https://plsa.com.au/event/cazalys-palmerston-club-morning-tea-bingo-8/
LOCATION:Cazalys Palmerston Club\, 10 Temple Terrace\, PALMERSTON NT 0831\, NT\, 0831\, Australia
END:VEVENT
BEGIN:VEVENT
DTSTART;TZID=Australia/Adelaide:20261127T130000
DTEND;TZID=Australia/Adelaide:20261127T133000
DTSTAMP:20260420T184933
CREATED:20231228T201529Z
LAST-MODIFIED:20251205T215026Z
UID:2769-1795784400-1795786200@plsa.com.au
SUMMARY:Annual General Meeting 2026
DESCRIPTION:Venue: Meeting Room\, Gray Hall. \nAddress: Cnr Victoria Ave and Essington Ave\, GRAY NT 0830. \nDescription: Annual General Committee Meeting. \nSponsor: Palmerston And Litchfield Seniors Association Inc.
URL:https://plsa.com.au/event/general-committee-meeting-20/
LOCATION:Gray Hall\, cnr Essington and Victoria Avenue\, GRAY\, Northern Territory\, 0832\, Australia
END:VEVENT
BEGIN:VEVENT
DTSTART;TZID=Australia/Adelaide:20261127T134500
DTEND;TZID=Australia/Adelaide:20261127T160000
DTSTAMP:20260420T184933
CREATED:20231228T201648Z
LAST-MODIFIED:20251205T215305Z
UID:2772-1795787100-1795795200@plsa.com.au
SUMMARY:General Committee Meeting (November Meeting)
DESCRIPTION:Venue: Meeting Room\, Gray Hall. \nAddress: Cnr Victoria Ave and Essington Ave\, GRAY NT. \nDescription: Monthly General Committee Meeting (last for 2026) \nSponsor: Palmerston And Litchfield Seniors Association Inc.
URL:https://plsa.com.au/event/general-committee-meeting-21/
LOCATION:Gray Hall\, cnr Essington and Victoria Avenue\, GRAY\, Northern Territory\, 0832\, Australia
END:VEVENT
END:VCALENDAR