BEGIN:VCALENDAR
VERSION:2.0
PRODID:-//Palmerston and Litchfield Seniors Association - ECPv6.15.20//NONSGML v1.0//EN
CALSCALE:GREGORIAN
METHOD:PUBLISH
X-WR-CALNAME:Palmerston and Litchfield Seniors Association
X-ORIGINAL-URL:https://plsa.com.au
X-WR-CALDESC:Events for Palmerston and Litchfield Seniors Association
REFRESH-INTERVAL;VALUE=DURATION:PT1H
X-Robots-Tag:noindex
X-PUBLISHED-TTL:PT1H
BEGIN:VTIMEZONE
TZID:Australia/Adelaide
BEGIN:STANDARD
TZOFFSETFROM:+1030
TZOFFSETTO:+0930
TZNAME:ACST
DTSTART:20250405T163000
END:STANDARD
BEGIN:DAYLIGHT
TZOFFSETFROM:+0930
TZOFFSETTO:+1030
TZNAME:ACDT
DTSTART:20251004T163000
END:DAYLIGHT
BEGIN:STANDARD
TZOFFSETFROM:+1030
TZOFFSETTO:+0930
TZNAME:ACST
DTSTART:20260404T163000
END:STANDARD
BEGIN:DAYLIGHT
TZOFFSETFROM:+0930
TZOFFSETTO:+1030
TZNAME:ACDT
DTSTART:20261003T163000
END:DAYLIGHT
BEGIN:STANDARD
TZOFFSETFROM:+1030
TZOFFSETTO:+0930
TZNAME:ACST
DTSTART:20270403T163000
END:STANDARD
BEGIN:DAYLIGHT
TZOFFSETFROM:+0930
TZOFFSETTO:+1030
TZNAME:ACDT
DTSTART:20271002T163000
END:DAYLIGHT
END:VTIMEZONE
BEGIN:VEVENT
DTSTART;TZID=Australia/Adelaide:20260420T100000
DTEND;TZID=Australia/Adelaide:20260420T130000
DTSTAMP:20260420T074114
CREATED:20231227T204804Z
LAST-MODIFIED:20251205T195702Z
UID:2591-1776679200-1776690000@plsa.com.au
SUMMARY:Darwin Family Law - Movie & Morning Tea
DESCRIPTION:Venue: Event Cinemas Yarrawonga. \nAddress: 18 Roystonea Avenue\, YARRAWONGA NT (Gateway Shopping Centre). \nDescription:  Vmax cinema every time – join us for the Movie and Morning Tea. \nNarration: TBA. \nDarwin Family Law & Event Cinemas Yarrawonga
URL:https://plsa.com.au/event/darin-family-law-movie-morning-tea/
LOCATION:Event Cinema\, Gateway\, Palmerston\, Northern Territory\, 0831\, Australia
END:VEVENT
BEGIN:VEVENT
DTSTART;TZID=Australia/Adelaide:20260423T100000
DTEND;TZID=Australia/Adelaide:20260423T120000
DTSTAMP:20260420T074114
CREATED:20231226T020449Z
LAST-MODIFIED:20251205T195604Z
UID:2386-1776938400-1776945600@plsa.com.au
SUMMARY:Cazalys Palmerston Club - Seniors Morning Tea & Bingo
DESCRIPTION:Venue: Cazalys Palmerston Club. \nAddress: 10 Temple Terrace\, PALMERSTON NT 0830. \nWhen: Morning Tea held on the SECOND and FORTH Thursday each month. We run a raffle at each morning tea. \nDescription: Why not\, morning tea\, meet people\, reunite with old friends. We run a raffle each morning tea. \nSponsor: Cazalys Palmerston Club & Palmerston And Litchfield Seniors Association Inc.
URL:https://plsa.com.au/event/cazalys-palmerston-club-free-morning-tea-bingo/
LOCATION:Cazalys Palmerston Club\, 10 Temple Terrace\, PALMERSTON NT 0831\, NT\, 0831\, Australia
END:VEVENT
BEGIN:VEVENT
DTSTART;TZID=Australia/Adelaide:20260424T130000
DTEND;TZID=Australia/Adelaide:20260424T160000
DTSTAMP:20260420T074114
CREATED:20231226T080300Z
LAST-MODIFIED:20251205T195510Z
UID:2537-1777035600-1777046400@plsa.com.au
SUMMARY:General Committee Meeting (April Meeting)
DESCRIPTION:Venue: Meeting Room Gray Hall. \nAddress: Cnr Victoria Ave and Essington Ave\, GRAY NT 0830. \nDescription: Monthly General Committee Meeting. \nAttendees: Committee Members\, Guests and Members. \nSponsor: Palmerston And Litchfield Seniors Association Inc.
URL:https://plsa.com.au/event/general-committee-meeting-15/
LOCATION:Gray Hall\, cnr Essington and Victoria Avenue\, GRAY\, Northern Territory\, 0832\, Australia
END:VEVENT
BEGIN:VEVENT
DTSTART;VALUE=DATE:20260425
DTEND;VALUE=DATE:20260426
DTSTAMP:20260420T074114
CREATED:20231226T014142Z
LAST-MODIFIED:20251203T012727Z
UID:2359-1777075200-1777161599@plsa.com.au
SUMMARY:ANZAC Day (Public Holiday)
DESCRIPTION:
URL:https://plsa.com.au/event/anzac-day-public-holiday-2/
LOCATION:PLSA
END:VEVENT
BEGIN:VEVENT
DTSTART;VALUE=DATE:20260430
DTEND;VALUE=DATE:20260501
DTSTAMP:20260420T074114
CREATED:20260105T000124Z
LAST-MODIFIED:20260105T001855Z
UID:4039-1777507200-1777593599@plsa.com.au
SUMMARY:PLSA Membership Renewals
DESCRIPTION:Venue: Membership payment (conditions apply) can be paid at: Cazalys Palmerston Club Morning Tea\, HDGC Morning Tea\, Palmerston Community Wheel or 50+ Club. \nFees: The Membership Fee for 2026 is $30.00\, due as of 1 January each year. \nWhen: Morning Tea – Cazalys 2nd & 4th Thursday of each month 10:00am to 10:00 to 12:00pm\, Morning Tea – HDGC 1st Wednesday each month 10:00am to 12:00pm\, Palmerston Community Wheel\, Palmerston Shopping Centre each Saturday morning 08:30am to 12:30pm and 50+ Club\, Gray Hall PALMERSTON each Tuesday morning 09:00am to 12:00pm. \nDescription: Be a member of the PLSA\, enjoy Seniors events and mingle with likeminded Seniors. \nNotation: Renewals must be paid by 30 April each year. In the event that renewal is not paid by 30 April\, Members will not be able to register or attend further events until Membership is paid. \nSponsors:  Palmerston And Litchfield Seniors Association Inc.\n 
URL:https://plsa.com.au/event/plsa-membership-renewals/
LOCATION:PLSA
END:VEVENT
END:VCALENDAR