BEGIN:VCALENDAR
VERSION:2.0
PRODID:-//Palmerston and Litchfield Seniors Association - ECPv6.15.20//NONSGML v1.0//EN
CALSCALE:GREGORIAN
METHOD:PUBLISH
X-ORIGINAL-URL:https://plsa.com.au
X-WR-CALDESC:Events for Palmerston and Litchfield Seniors Association
REFRESH-INTERVAL;VALUE=DURATION:PT1H
X-Robots-Tag:noindex
X-PUBLISHED-TTL:PT1H
BEGIN:VTIMEZONE
TZID:Australia/Adelaide
BEGIN:STANDARD
TZOFFSETFROM:+1030
TZOFFSETTO:+0930
TZNAME:ACST
DTSTART:20250405T163000
END:STANDARD
BEGIN:DAYLIGHT
TZOFFSETFROM:+0930
TZOFFSETTO:+1030
TZNAME:ACDT
DTSTART:20251004T163000
END:DAYLIGHT
BEGIN:STANDARD
TZOFFSETFROM:+1030
TZOFFSETTO:+0930
TZNAME:ACST
DTSTART:20260404T163000
END:STANDARD
BEGIN:DAYLIGHT
TZOFFSETFROM:+0930
TZOFFSETTO:+1030
TZNAME:ACDT
DTSTART:20261003T163000
END:DAYLIGHT
BEGIN:STANDARD
TZOFFSETFROM:+1030
TZOFFSETTO:+0930
TZNAME:ACST
DTSTART:20270403T163000
END:STANDARD
BEGIN:DAYLIGHT
TZOFFSETFROM:+0930
TZOFFSETTO:+1030
TZNAME:ACDT
DTSTART:20271002T163000
END:DAYLIGHT
END:VTIMEZONE
BEGIN:VEVENT
DTSTART;TZID=Australia/Adelaide:20260420T100000
DTEND;TZID=Australia/Adelaide:20260420T130000
DTSTAMP:20260420T062450
CREATED:20231227T204804Z
LAST-MODIFIED:20251205T195702Z
UID:2591-1776679200-1776690000@plsa.com.au
SUMMARY:Darwin Family Law - Movie & Morning Tea
DESCRIPTION:Venue: Event Cinemas Yarrawonga. \nAddress: 18 Roystonea Avenue\, YARRAWONGA NT (Gateway Shopping Centre). \nDescription:  Vmax cinema every time – join us for the Movie and Morning Tea. \nNarration: TBA. \nDarwin Family Law & Event Cinemas Yarrawonga
URL:https://plsa.com.au/event/darin-family-law-movie-morning-tea/
LOCATION:Event Cinema\, Gateway\, Palmerston\, Northern Territory\, 0831\, Australia
END:VEVENT
END:VCALENDAR